BEGIN:VCALENDAR
PRODID:-//dvv-bw.de//dvv.Portalplattform//DE
VERSION:2.0
METHOD:PUBLISH
BEGIN:VEVENT
DTSTART:20260714T220000Z
DTEND:20260714T220000Z
DTSTAMP:20260421T210145Z
UID:523251903703-523251903603-1784066400000
SUMMARY:Blutspendeaktion
LOCATION:Donauhalle in Immendingen\, Bachzimmerer Straße 15\, 78194 Immendingen
DESCRIPTION:Blutspendeaktion
CLASS:PUBLIC
X-ALT-DESC;FMTTYPE=text/html:Blutspendeaktion
END:VEVENT
END:VCALENDAR
