BEGIN:VCALENDAR
PRODID:-//dvv-bw.de//dvv.Portalplattform//DE
VERSION:2.0
METHOD:PUBLISH
BEGIN:VEVENT
DTSTART:20260424T220000Z
DTEND:20260424T220000Z
DTSTAMP:20260421T173912Z
UID:523251900459-523251899418-1777068000000
SUMMARY:Flohmarkt
LOCATION:Unteres Schloss in Immendingen, Im Donaupark 3, 78194 Immendingen
DESCRIPTION:Flohmarkt
CLASS:PUBLIC
X-ALT-DESC;FMTTYPE=text/html:Flohmarkt
END:VEVENT
END:VCALENDAR
