BEGIN:VCALENDAR
PRODID:-//dvv-bw.de//dvv.Portalplattform//DE
VERSION:2.0
METHOD:PUBLISH
BEGIN:VEVENT
DTSTART:20260430T220000Z
DTEND:20260430T220000Z
DTSTAMP:20260421T160415Z
UID:523252275502-523252275402-1777586400000
SUMMARY:Frühschoppen
LOCATION:Immendingen Donaublickhütte
DESCRIPTION:Frühschoppen
CLASS:PUBLIC
X-ALT-DESC;FMTTYPE=text/html:Frühschoppen
END:VEVENT
END:VCALENDAR
