BEGIN:VCALENDAR
PRODID:-//dvv-bw.de//dvv.Portalplattform//DE
VERSION:2.0
METHOD:PUBLISH
BEGIN:VEVENT
DTSTART:20260422T220000Z
DTEND:20260422T220000Z
DTSTAMP:20260421T174024Z
UID:523251900460-523251899419-1776895200000
SUMMARY:Girls and Boys Day
DESCRIPTION:Girls and Boys Day
CLASS:PUBLIC
X-ALT-DESC;FMTTYPE=text/html:Girls and Boys Day
END:VEVENT
END:VCALENDAR
