BEGIN:VCALENDAR
PRODID:-//dvv-bw.de//dvv.Portalplattform//DE
VERSION:2.0
METHOD:PUBLISH
BEGIN:VEVENT
DTSTART:20261002T140000Z
DTEND:20261002T160000Z
DTSTAMP:20260421T144018Z
UID:523252275509-523251903621-1790892000000
SUMMARY:Herbstabschlussprobe
LOCATION:Hattingen
DESCRIPTION:Herbstabschlussprobe
CLASS:PUBLIC
X-ALT-DESC;FMTTYPE=text/html:Herbstabschlussprobe
END:VEVENT
END:VCALENDAR
