BEGIN:VCALENDAR
PRODID:-//dvv-bw.de//dvv.Portalplattform//DE
VERSION:2.0
METHOD:PUBLISH
BEGIN:VEVENT
DTSTART:20260619T220000Z
DTEND:20260620T220000Z
DTSTAMP:20260421T173826Z
RRULE;FREQ=DAILY;UNTIL=20260621T215959Z
UID:523251900487-523251899446-1781906400000
SUMMARY:Jedermannschießen
LOCATION:Schützenhaus in Immendingen\, Talmannsberg 1\, 78194 Immendingen
DESCRIPTION:Jedermannschießen
CLASS:PUBLIC
X-ALT-DESC;FMTTYPE=text/html:Jedermannschießen
END:VEVENT
END:VCALENDAR
