BEGIN:VCALENDAR
PRODID:-//dvv-bw.de//dvv.Portalplattform//DE
VERSION:2.0
METHOD:PUBLISH
BEGIN:VEVENT
DTSTART:20260503T080000Z
DTEND:20260503T100000Z
DTSTAMP:20260421T142911Z
UID:523251900467-523251899426-1777759200000
SUMMARY:Konfirmation
LOCATION:Versöhnungskirche\, Schwarzwaldstraße 3\, 78194 Immendingen
DESCRIPTION:Konfirmation
CLASS:PUBLIC
X-ALT-DESC;FMTTYPE=text/html:Konfirmation
END:VEVENT
END:VCALENDAR
