BEGIN:VCALENDAR
PRODID:-//dvv-bw.de//dvv.Portalplattform//DE
VERSION:2.0
METHOD:PUBLISH
BEGIN:VEVENT
DTSTART:20260612T220000Z
DTEND:20260612T220000Z
DTSTAMP:20260421T160610Z
UID:523251900484-523251899443-1781301600000
SUMMARY:Kreismeisterschaften
LOCATION:Talmannsberg Immendingen, Talmannsberg 2, 78194 Immendingen
DESCRIPTION:Kreismeisterschaften
CLASS:PUBLIC
X-ALT-DESC;FMTTYPE=text/html:Kreismeisterschaften
END:VEVENT
END:VCALENDAR
