BEGIN:VCALENDAR
PRODID:-//dvv-bw.de//dvv.Portalplattform//DE
VERSION:2.0
METHOD:PUBLISH
BEGIN:VEVENT
DTSTART:20260429T220000Z
DTEND:20260429T220000Z
DTSTAMP:20260421T160510Z
UID:523251900463-523251899422-1777500000000
SUMMARY:Maibaumstellen
LOCATION:Witthoh-Halle in Hattingen\, Rathausstraße 17\, 78194 Immendingen
DESCRIPTION:Maibaumstellen
CLASS:PUBLIC
X-ALT-DESC;FMTTYPE=text/html:Maibaumstellen
END:VEVENT
END:VCALENDAR
