BEGIN:VCALENDAR
PRODID:-//dvv-bw.de//dvv.Portalplattform//DE
VERSION:2.0
METHOD:PUBLISH
BEGIN:VEVENT
DTSTART:20260911T220000Z
DTEND:20260911T220000Z
DTSTAMP:20260421T160540Z
UID:523251903715-523251903615-1789164000000
SUMMARY:Pionierausbildung mit Schlauchboot
DESCRIPTION:Pionierausbildung mit Schlauchboot
CLASS:PUBLIC
X-ALT-DESC;FMTTYPE=text/html:Pionierausbildung mit Schlauchboot
END:VEVENT
END:VCALENDAR
