BEGIN:VCALENDAR
PRODID:-//dvv-bw.de//dvv.Portalplattform//DE
VERSION:2.0
METHOD:PUBLISH
BEGIN:VEVENT
DTSTART:20260507T220000Z
DTEND:20260507T220000Z
DTSTAMP:20260422T021751Z
UID:523251900471-523251899430-1778191200000
SUMMARY:Prüfung Deutsch
LOCATION:Aula der Schlossschule in Immendingen\, Jahnstraße 1\, 78194 Immendingen
DESCRIPTION:Prüfung Deutsch
CLASS:PUBLIC
X-ALT-DESC;FMTTYPE=text/html:Prüfung Deutsch
END:VEVENT
END:VCALENDAR
