BEGIN:VCALENDAR
PRODID:-//dvv-bw.de//dvv.Portalplattform//DE
VERSION:2.0
METHOD:PUBLISH
BEGIN:VEVENT
DTSTART:20260518T220000Z
DTEND:20260518T220000Z
DTSTAMP:20260421T222528Z
UID:523251900477-523251899436-1779141600000
SUMMARY:Prüfung Englisch
LOCATION:Aula der Schlossschule in Immendingen\, Jahnstraße 1\, 78194 Immendingen
DESCRIPTION:Prüfung Englisch
CLASS:PUBLIC
X-ALT-DESC;FMTTYPE=text/html:Prüfung Englisch
END:VEVENT
END:VCALENDAR
