BEGIN:VCALENDAR
PRODID:-//dvv-bw.de//dvv.Portalplattform//DE
VERSION:2.0
METHOD:PUBLISH
BEGIN:VEVENT
DTSTART:20260511T220000Z
DTEND:20260511T220000Z
DTSTAMP:20260422T002022Z
UID:523251900472-523251899431-1778536800000
SUMMARY:Prüfung Mathe
LOCATION:Aula der Schlossschule in Immendingen\, Jahnstraße 1\, 78194 Immendingen
DESCRIPTION:Prüfung Mathe
CLASS:PUBLIC
X-ALT-DESC;FMTTYPE=text/html:Prüfung Mathe
END:VEVENT
END:VCALENDAR
