BEGIN:VCALENDAR
PRODID:-//dvv-bw.de//dvv.Portalplattform//DE
VERSION:2.0
METHOD:PUBLISH
BEGIN:VEVENT
DTSTART:20260520T220000Z
DTEND:20260520T220000Z
DTSTAMP:20260422T073232Z
UID:523251900478-523251899437-1779314400000
SUMMARY:Prüfung Wahlpflichtfach
LOCATION:Donauhalle in Immendingen\, Bachzimmerer Straße 15\, 78194 Immendingen
DESCRIPTION:Prüfung Wahlpflichtfach
CLASS:PUBLIC
X-ALT-DESC;FMTTYPE=text/html:Prüfung Wahlpflichtfach
END:VEVENT
END:VCALENDAR
