BEGIN:VCALENDAR
PRODID:-//dvv-bw.de//dvv.Portalplattform//DE
VERSION:2.0
METHOD:PUBLISH
BEGIN:VEVENT
DTSTART:20260731T220000Z
DTEND:20260731T220000Z
DTSTAMP:20260421T162102Z
UID:523251903710-523251903610-1785535200000
SUMMARY:Wasserrutsche
LOCATION:Ippingen
DESCRIPTION:Wasserrutsche
CLASS:PUBLIC
X-ALT-DESC;FMTTYPE=text/html:Wasserrutsche
END:VEVENT
END:VCALENDAR
