BEGIN:VCALENDAR
PRODID:-//dvv-bw.de//dvv.Portalplattform//DE
VERSION:2.0
METHOD:PUBLISH
BEGIN:VEVENT
DTSTART:20261003T220000Z
DTEND:20261003T220000Z
DTSTAMP:20260421T204302Z
UID:523251903723-523251903623-1791064800000
SUMMARY:Weißwurstessen
LOCATION:Schützenhaus in Immendingen\, Talmannsberg 1\, 78194 Immendingen
DESCRIPTION:Weißwurstessen
CLASS:PUBLIC
X-ALT-DESC;FMTTYPE=text/html:Weißwurstessen
END:VEVENT
END:VCALENDAR
