BEGIN:VCALENDAR
PRODID:-//dvv-bw.de//dvv.Portalplattform//DE
VERSION:2.0
METHOD:PUBLISH
BEGIN:VEVENT
DTSTART:20260717T220000Z
DTEND:20260717T220000Z
DTSTAMP:20260421T190541Z
UID:523251903706-523251903606-1784325600000
SUMMARY:4. Ostbaar-Flair
LOCATION:Sportplatz Ippingen\, Bachzimmerer Straße 17\, 78194 Immendingen
DESCRIPTION:4. Ostbaar-Flair
CLASS:PUBLIC
X-ALT-DESC;FMTTYPE=text/html:4. Ostbaar-Flair
END:VEVENT
END:VCALENDAR
