BEGIN:VCALENDAR
PRODID:-//dvv-bw.de//dvv.Portalplattform//DE
VERSION:2.0
METHOD:PUBLISH
BEGIN:VEVENT
DTSTART:20261120T230000Z
DTEND:20261120T230000Z
DTSTAMP:20260425T175104Z
UID:523252275521-523252275415-1795215600000
SUMMARY:Galaabend
LOCATION:Donauhalle in Immendingen\, Bachzimmerer Straße 15\, 78194 Immendingen
DESCRIPTION:Galaabend
CLASS:PUBLIC
X-ALT-DESC;FMTTYPE=text/html:Galaabend
END:VEVENT
END:VCALENDAR
