BEGIN:VCALENDAR
PRODID:-//dvv-bw.de//dvv.Portalplattform//DE
VERSION:2.0
METHOD:PUBLISH
BEGIN:VEVENT
DTSTART:20260801T220000Z
DTEND:20260801T220000Z
DTSTAMP:20260422T215312Z
UID:523251903711-523251903611-1785621600000
SUMMARY:Mofa-Frühschoppen
LOCATION:Gasthaus Ochsen in Hattingen\, Hauptstraße 45\, 78194 Immendingen
DESCRIPTION:Mofa-Frühschoppen
CLASS:PUBLIC
X-ALT-DESC;FMTTYPE=text/html:Mofa-Frühschoppen
END:VEVENT
END:VCALENDAR
