BEGIN:VCALENDAR
PRODID:-//dvv-bw.de//dvv.Portalplattform//DE
VERSION:2.0
METHOD:PUBLISH
BEGIN:VEVENT
DTSTART:20261110T230000Z
DTEND:20261110T230000Z
DTSTAMP:20260422T172011Z
UID:523251903733-523251903633-1794351600000
SUMMARY:Närrischer Hock
LOCATION:Rathaus in Hattingen\, Rathausstraße 31\, 78194 Immendingen
DESCRIPTION:Närrischer Hock
CLASS:PUBLIC
X-ALT-DESC;FMTTYPE=text/html:Närrischer Hock
END:VEVENT
END:VCALENDAR
