BEGIN:VCALENDAR
PRODID:-//dvv-bw.de//dvv.Portalplattform//DE
VERSION:2.0
METHOD:PUBLISH
BEGIN:VEVENT
DTSTART:20261016T220000Z
DTEND:20261016T220000Z
DTSTAMP:20260425T102734Z
UID:523251903728-523251903628-1792188000000
SUMMARY:Rübengeister schnitzen
LOCATION:Zunfthaus in Immendingen\, Donaustraße 4\, 78194 Immendingen
DESCRIPTION:Rübengeister schnitzen
CLASS:PUBLIC
X-ALT-DESC;FMTTYPE=text/html:Rübengeister schnitzen
END:VEVENT
END:VCALENDAR
