BEGIN:VCALENDAR
PRODID:-//dvv-bw.de//dvv.Portalplattform//DE
VERSION:2.0
METHOD:PUBLISH
BEGIN:VEVENT
DTSTART:20261205T230000Z
DTEND:20261205T230000Z
DTSTAMP:20260422T131119Z
UID:523251903747-523251903647-1796511600000
SUMMARY:Weihnachtsfeier
LOCATION:Kath. Pfarrheim in Immendingen\, Bachzimmerer Straße 2/A\, 78194 Immendingen
DESCRIPTION:Weihnachtsfeier
CLASS:PUBLIC
X-ALT-DESC;FMTTYPE=text/html:Weihnachtsfeier
END:VEVENT
END:VCALENDAR
