BEGIN:VCALENDAR
PRODID:-//dvv-bw.de//dvv.Portalplattform//DE
VERSION:2.0
METHOD:PUBLISH
BEGIN:VEVENT
DTSTART:20261218T230000Z
DTEND:20261218T230000Z
DTSTAMP:20260422T143155Z
UID:523251911303-523251911203-1797634800000
SUMMARY:Weihnachtsfeier
LOCATION:Witthoh-Halle in Hattingen\, Rathausstraße 17\, 78194 Immendingen
DESCRIPTION:Weihnachtsfeier
CLASS:PUBLIC
X-ALT-DESC;FMTTYPE=text/html:Weihnachtsfeier
END:VEVENT
END:VCALENDAR
